BEGIN:VCALENDAR
VERSION:2.0
PRODID:-//Cozy Game News - ECPv6.15.20//NONSGML v1.0//EN
CALSCALE:GREGORIAN
METHOD:PUBLISH
X-ORIGINAL-URL:https://cozygamenews.com
X-WR-CALDESC:Events for Cozy Game News
REFRESH-INTERVAL;VALUE=DURATION:PT1H
X-Robots-Tag:noindex
X-PUBLISHED-TTL:PT1H
BEGIN:VTIMEZONE
TZID:America/New_York
BEGIN:DAYLIGHT
TZOFFSETFROM:-0500
TZOFFSETTO:-0400
TZNAME:EDT
DTSTART:20250309T070000
END:DAYLIGHT
BEGIN:STANDARD
TZOFFSETFROM:-0400
TZOFFSETTO:-0500
TZNAME:EST
DTSTART:20251102T060000
END:STANDARD
BEGIN:DAYLIGHT
TZOFFSETFROM:-0500
TZOFFSETTO:-0400
TZNAME:EDT
DTSTART:20260308T070000
END:DAYLIGHT
BEGIN:STANDARD
TZOFFSETFROM:-0400
TZOFFSETTO:-0500
TZNAME:EST
DTSTART:20261101T060000
END:STANDARD
BEGIN:DAYLIGHT
TZOFFSETFROM:-0500
TZOFFSETTO:-0400
TZNAME:EDT
DTSTART:20270314T070000
END:DAYLIGHT
BEGIN:STANDARD
TZOFFSETFROM:-0400
TZOFFSETTO:-0500
TZNAME:EST
DTSTART:20271107T060000
END:STANDARD
END:VTIMEZONE
BEGIN:VEVENT
DTSTART;VALUE=DATE:20260415
DTEND;VALUE=DATE:20260416
DTSTAMP:20260422T202342
CREATED:20260220T235744Z
LAST-MODIFIED:20260220T235744Z
UID:10000051-1776211200-1776297599@cozygamenews.com
SUMMARY:Cleaning Up!
DESCRIPTION:Turn huge messes into sparkling spaces! Feel the satisfaction of restoring them to order with your super-powered cleaning tools. The quick\, cozy joy of tidying up!
URL:https://cozygamenews.com/event/cleaning-up/
CATEGORIES:PC,Steam
ATTACH;FMTTYPE=image/png:https://cozygamenews.com/wp-content/uploads/2025/09/Cleaning-up-scaled.png
END:VEVENT
BEGIN:VEVENT
DTSTART;VALUE=DATE:20260416
DTEND;VALUE=DATE:20260417
DTSTAMP:20260422T202342
CREATED:20260220T234734Z
LAST-MODIFIED:20260220T234734Z
UID:10000048-1776297600-1776383999@cozygamenews.com
SUMMARY:Gecko Gods
DESCRIPTION:Explore a forgotten land in Gecko Gods\, a puzzle-adventure built for curiosity. Climb walls\, solve ancient puzzles and uncover a lost civilisation in a world full of hidden paths\, quiet secrets and natural wonder.
URL:https://cozygamenews.com/event/gecko-gods/
CATEGORIES:PC,Steam
ATTACH;FMTTYPE=image/webp:https://cozygamenews.com/wp-content/uploads/2026/02/Gecko-Gods.webp
END:VEVENT
BEGIN:VEVENT
DTSTART;VALUE=DATE:20260416
DTEND;VALUE=DATE:20260417
DTSTAMP:20260422T202342
CREATED:20260220T235917Z
LAST-MODIFIED:20260220T235917Z
UID:10000052-1776297600-1776383999@cozygamenews.com
SUMMARY:ShantyTown
DESCRIPTION:ShantyTown is a relaxing diorama-building game about finding beauty in everyday chaos. Bring new locations to life\, stack your urban buildings high\, and fill each little nook and cranny with your own touch. Try your hand at shaping a cosy little city that is unique to you.
URL:https://cozygamenews.com/event/shantytown/
CATEGORIES:PC,Steam
ATTACH;FMTTYPE=image/png:https://cozygamenews.com/wp-content/uploads/2025/09/ShantyTown-scaled.png
END:VEVENT
END:VCALENDAR