BEGIN:VCALENDAR
VERSION:2.0
PRODID:-//Cozy Game News - ECPv6.15.20//NONSGML v1.0//EN
CALSCALE:GREGORIAN
METHOD:PUBLISH
X-WR-CALNAME:Cozy Game News
X-ORIGINAL-URL:https://cozygamenews.com
X-WR-CALDESC:Events for Cozy Game News
REFRESH-INTERVAL;VALUE=DURATION:PT1H
X-Robots-Tag:noindex
X-PUBLISHED-TTL:PT1H
BEGIN:VTIMEZONE
TZID:America/New_York
BEGIN:DAYLIGHT
TZOFFSETFROM:-0500
TZOFFSETTO:-0400
TZNAME:EDT
DTSTART:20250309T070000
END:DAYLIGHT
BEGIN:STANDARD
TZOFFSETFROM:-0400
TZOFFSETTO:-0500
TZNAME:EST
DTSTART:20251102T060000
END:STANDARD
BEGIN:DAYLIGHT
TZOFFSETFROM:-0500
TZOFFSETTO:-0400
TZNAME:EDT
DTSTART:20260308T070000
END:DAYLIGHT
BEGIN:STANDARD
TZOFFSETFROM:-0400
TZOFFSETTO:-0500
TZNAME:EST
DTSTART:20261101T060000
END:STANDARD
BEGIN:DAYLIGHT
TZOFFSETFROM:-0500
TZOFFSETTO:-0400
TZNAME:EDT
DTSTART:20270314T070000
END:DAYLIGHT
BEGIN:STANDARD
TZOFFSETFROM:-0400
TZOFFSETTO:-0500
TZNAME:EST
DTSTART:20271107T060000
END:STANDARD
END:VTIMEZONE
BEGIN:VEVENT
DTSTART;VALUE=DATE:20260427
DTEND;VALUE=DATE:20260428
DTSTAMP:20260422T203750
CREATED:20260220T235034Z
LAST-MODIFIED:20260220T235034Z
UID:10000049-1777248000-1777334399@cozygamenews.com
SUMMARY:Moomintroll: Winter's Warmth
DESCRIPTION:When Moomintroll unexpectedly wakes up early from his winter hibernation\, he finds himself completely alone for the first time\, in a world he barely recognizes. The familiar landscape of Moominvalley is now cloaked in the frosty veil of the Lady of the Cold. Initially seeking someone to care for him and longing to banish winter\, young Moomintroll reluctantly embarks on a journey into the unknown\, learning to forge new friendships and help those in greater need than himself.
URL:https://cozygamenews.com/event/moomintroll-winters-warmth/
CATEGORIES:PC,Steam
ATTACH;FMTTYPE=image/jpeg:https://cozygamenews.com/wp-content/uploads/2026/02/Moomintroll-1.jpg
END:VEVENT
END:VCALENDAR