BEGIN:VCALENDAR
VERSION:2.0
PRODID:-//Cozy Game News - ECPv6.15.20//NONSGML v1.0//EN
CALSCALE:GREGORIAN
METHOD:PUBLISH
X-WR-CALNAME:Cozy Game News
X-ORIGINAL-URL:https://cozygamenews.com
X-WR-CALDESC:Events for Cozy Game News
REFRESH-INTERVAL;VALUE=DURATION:PT1H
X-Robots-Tag:noindex
X-PUBLISHED-TTL:PT1H
BEGIN:VTIMEZONE
TZID:America/New_York
BEGIN:DAYLIGHT
TZOFFSETFROM:-0500
TZOFFSETTO:-0400
TZNAME:EDT
DTSTART:20250309T070000
END:DAYLIGHT
BEGIN:STANDARD
TZOFFSETFROM:-0400
TZOFFSETTO:-0500
TZNAME:EST
DTSTART:20251102T060000
END:STANDARD
BEGIN:DAYLIGHT
TZOFFSETFROM:-0500
TZOFFSETTO:-0400
TZNAME:EDT
DTSTART:20260308T070000
END:DAYLIGHT
BEGIN:STANDARD
TZOFFSETFROM:-0400
TZOFFSETTO:-0500
TZNAME:EST
DTSTART:20261101T060000
END:STANDARD
BEGIN:DAYLIGHT
TZOFFSETFROM:-0500
TZOFFSETTO:-0400
TZNAME:EDT
DTSTART:20270314T070000
END:DAYLIGHT
BEGIN:STANDARD
TZOFFSETFROM:-0400
TZOFFSETTO:-0500
TZNAME:EST
DTSTART:20271107T060000
END:STANDARD
END:VTIMEZONE
BEGIN:VEVENT
DTSTART;VALUE=DATE:20260505
DTEND;VALUE=DATE:20260506
DTSTAMP:20260422T183733
CREATED:20260221T000039Z
LAST-MODIFIED:20260221T000039Z
UID:10000053-1777939200-1778025599@cozygamenews.com
SUMMARY:Wax Heads
DESCRIPTION:Wax Heads is a cozy-punk narrative sim about working in a struggling record store. Chat to quirky customers with unique tastes\, explore a handcrafted record collection\, fall in love with bands (and their drama!)\, or just slack off with your colleagues – whatever gets everyone’s groove back!
URL:https://cozygamenews.com/event/wax-heads/
CATEGORIES:PC,Steam
ATTACH;FMTTYPE=image/png:https://cozygamenews.com/wp-content/uploads/2025/09/Wax-Heads-scaled.png
END:VEVENT
END:VCALENDAR